BEGIN:VCALENDAR
VERSION:2.0
PRODID:-//Talks.cam//talks.cam.ac.uk//
X-WR-CALNAME:Talks.cam
BEGIN:VEVENT
SUMMARY:AF-embeddability of decomposition rank 1 algebras - Joachim Zachar
 ias (University of Glasgow)
DTSTART:20250704T100000Z
DTEND:20250704T102000Z
UID:TALK233806@talks.cam.ac.uk
DESCRIPTION:AF-embeddability\, ie the question whether a given C*-algebra 
 can be realised as a subalgebra of an AF-algebra has been studied for a lo
 ng time with prominent early results by Pimsner and Voicuescu who construc
 ted such embeddings for irrational rotation algebras in 1980. Since then m
 any AF-embeddings have been constructed for concrete examples but also man
 y non-constructive AF-embeddability results have been obtained for classes
  of algebras typically assuming the UCT. In this talk we consider a separa
 ble unital C*-algebra A of decomposition rank at most 1 and construct from
  a suitable system of 1-decomposable cpc-approximations an AF-algebra E to
 gether with an embedding of A into E and a conditional expectation of E on
 to A without assuming the UCT. We also indicate some applications.
LOCATION:External
END:VEVENT
END:VCALENDAR
