BEGIN:VCALENDAR
VERSION:2.0
PRODID:-//Talks.cam//talks.cam.ac.uk//
X-WR-CALNAME:Talks.cam
BEGIN:VEVENT
SUMMARY:Drilling hyperbolic groups - Alessandro Sisto (Heriot-Watt Univers
 ity)
DTSTART:20250902T091500Z
DTEND:20250902T101500Z
UID:TALK233635@talks.cam.ac.uk
DESCRIPTION:I will discuss a group-theoretic procedure that simulates the 
 effect at the level of the fundamental group of removing a closed geodesic
  from a hyperbolic 3-manifold\, and can be thought of as the inverse proce
 dure of peripheral filling for relatively hyperbolic groups. The main appl
 ication will be establishing a connection between two versions of Cannon's
  Conjecture\, and I will try to argue that one of them should be less hard
  than the other one. Joint work with D. Groves\, P. Haissinsky\, J. Mannin
 g\, D. Osajda\, and G. Walsh.
LOCATION:Seminar Room 1\, Newton Institute
END:VEVENT
END:VCALENDAR
