BEGIN:VCALENDAR
VERSION:2.0
PRODID:-//Talks.cam//talks.cam.ac.uk//
X-WR-CALNAME:Talks.cam
BEGIN:VEVENT
SUMMARY:A pair of Garside shadows - Piotr Przytycki (McGill University)
DTSTART:20250710T081500Z
DTEND:20250710T091500Z
UID:TALK232843@talks.cam.ac.uk
DESCRIPTION:This is joint work with Yeeka Yau. I will explain why minimal 
 elements of cone type components and Shi components form "Garside shadows"
  in Coxeter groups. This leads to convenient path systems in their Cayley 
 graphs.
LOCATION:Seminar Room 1\, Newton Institute
END:VEVENT
END:VCALENDAR
