BEGIN:VCALENDAR
VERSION:2.0
PRODID:-//Talks.cam//talks.cam.ac.uk//
X-WR-CALNAME:Talks.cam
BEGIN:VEVENT
SUMMARY:Proof of the existence of theta_6 - Zhouli Xu (University of Calif
 ornia\, Los Angeles)
DTSTART:20250610T130000Z
DTEND:20250610T140000Z
UID:TALK232417@talks.cam.ac.uk
DESCRIPTION:In this talk\, I will give an overview of the proof that h_6^2
  survives in the Adams spectral sequence. This is joint work with Weinan L
 in and Guozhen Wang.
LOCATION:Seminar Room 2\, Newton Institute
END:VEVENT
END:VCALENDAR
