BEGIN:VCALENDAR
VERSION:2.0
PRODID:-//Talks.cam//talks.cam.ac.uk//
X-WR-CALNAME:Talks.cam
BEGIN:VEVENT
SUMMARY:Autonomous Robots That Operate in Human Environments - Fethiye Irm
 ak Dogan (University of Cambridge\, Department of Computer Science and Tec
 hnology)
DTSTART:20250508T120000Z
DTEND:20250508T130000Z
UID:TALK231448@talks.cam.ac.uk
CONTACT:Alexander R Epstein
DESCRIPTION:This talk explores the challenges faced by autonomous robots o
 perating in human environments\, focusing on our efforts to help them unde
 rstand and clarify ambiguous instructions and act in socially appropriate 
 ways while carrying out complex tasks.\n
LOCATION:Richard King room\, Darwin College
END:VEVENT
END:VCALENDAR
