BEGIN:VCALENDAR
VERSION:2.0
PRODID:-//Talks.cam//talks.cam.ac.uk//
X-WR-CALNAME:Talks.cam
BEGIN:VEVENT
SUMMARY:Concluding discussion session - June Barrow-Green (The Open Univer
 sity)\, Deborah Kent (University of St Andrews)\, Christopher  Hollings (U
 niversity of Oxford)
DTSTART:20250502T130000Z
DTEND:20250502T143000Z
UID:TALK230425@talks.cam.ac.uk
DESCRIPTION:
LOCATION:Seminar Room 1\, Newton Institute
END:VEVENT
END:VCALENDAR
