BEGIN:VCALENDAR
VERSION:2.0
PRODID:-//Talks.cam//talks.cam.ac.uk//
X-WR-CALNAME:Talks.cam
BEGIN:VEVENT
SUMMARY:Moderns viewing Ancients: The 19th- and 20th-century historiograph
 y of ancient Egyptian mathematics - Christopher  Hollings (University of O
 xford)
DTSTART:20250425T140000Z
DTEND:20250425T153000Z
UID:TALK230314@talks.cam.ac.uk
DESCRIPTION:I will give an informal survey of where our modern knowledge o
 f ancient Egyptian mathematics comes from\, and how it was shaped in the l
 ate 19th- and early 20th-centuries by the often competing interests of Egy
 ptologists\, mathematicians\, and historians of mathematics.
LOCATION:Seminar Room 2\, Newton Institute
END:VEVENT
END:VCALENDAR
