BEGIN:VCALENDAR
VERSION:2.0
PRODID:-//Talks.cam//talks.cam.ac.uk//
X-WR-CALNAME:Talks.cam
BEGIN:VEVENT
SUMMARY:Woe is Me!: Spatial Logic and Memory in the OIMOI Inscriptions of 
 Selinous - Campbell Rosener
DTSTART:20250520T121000Z
DTEND:20250520T130000Z
UID:TALK229663@talks.cam.ac.uk
CONTACT:Matthew Jones
DESCRIPTION:In the ancient Greek city-state of Selinous in Sicily\, there 
 is a unique set of funerary inscriptions which directly lament the fate of
  the deceased. This formula lacks precedent elsewhere in the Greek world\,
  and I explore how the content of these inscriptions interact with the spa
 ce on which they are laid out\, the memorial stones themselves\, and the s
 urrounding landscape. I argue that the negative space employed in many of 
 the inscriptions speaks just as forcefully as the text itself\, and that i
 t renders memory in terms of absence\, not presence. \n
LOCATION:Richard King room\, Darwin College
END:VEVENT
END:VCALENDAR
