BEGIN:VCALENDAR
VERSION:2.0
PRODID:-//Talks.cam//talks.cam.ac.uk//
X-WR-CALNAME:Talks.cam
BEGIN:VEVENT
SUMMARY:Reconciling seismic and thermo-chemical models of cratonic lithosp
 here - Felix Davison
DTSTART:20250214T160000Z
DTEND:20250214T170000Z
UID:TALK228400@talks.cam.ac.uk
CONTACT:David Al-Attar
DESCRIPTION:Abstract not available
LOCATION:Tea Room\, Old House
END:VEVENT
END:VCALENDAR
