BEGIN:VCALENDAR
VERSION:2.0
PRODID:-//Talks.cam//talks.cam.ac.uk//
X-WR-CALNAME:Talks.cam
BEGIN:VEVENT
SUMMARY:Light Scattering techniques  - Christopher Batters\, MRC LMB
DTSTART:20250325T093000Z
DTEND:20250325T103000Z
UID:TALK226912@talks.cam.ac.uk
CONTACT:127678
DESCRIPTION:Abstract not available
LOCATION:MRC LMB: Max Perutz Lecture Theatre
END:VEVENT
END:VCALENDAR
