BEGIN:VCALENDAR
VERSION:2.0
PRODID:-//Talks.cam//talks.cam.ac.uk//
X-WR-CALNAME:Talks.cam
BEGIN:VEVENT
SUMMARY:Syntax and processing in early child Spanish resumption - Teresa P
 arodi (RCEAL)
DTSTART:20100309T180000Z
DTEND:20100309T193000Z
UID:TALK22530@talks.cam.ac.uk
CONTACT:Dr Theresa Biberauer
DESCRIPTION:Abstract not available
LOCATION:G-R04\, English Faculty
END:VEVENT
END:VCALENDAR
