BEGIN:VCALENDAR
VERSION:2.0
PRODID:-//Talks.cam//talks.cam.ac.uk//
X-WR-CALNAME:Talks.cam
BEGIN:VEVENT
SUMMARY:Cognitive Neuroscience Methods Day - Multiple
DTSTART:20241202T090000Z
DTEND:20241202T170000Z
UID:TALK224473@talks.cam.ac.uk
CONTACT:Dace Apšvalka
DESCRIPTION:The Methods Day will consist of short talks\, from researchers
  around Cambridge\, on methodological innovations and new application in b
 rain imaging\, brain stimulation\, behavioural research and web-based expe
 riments. Attendance is free and does not require registration.\nSee the sc
 hedule for the day here: https://imaging.mrc-cbu.cam.ac.uk/methods/Methods
 DaySchedule
LOCATION: MRC-CBU\, 15 Chaucer Road\, Cambridge
END:VEVENT
END:VCALENDAR
