BEGIN:VCALENDAR
VERSION:2.0
PRODID:-//Talks.cam//talks.cam.ac.uk//
X-WR-CALNAME:Talks.cam
BEGIN:VEVENT
SUMMARY:Multi-scale seismic imaging of the Icelandic lithosphere: A focus 
 on Askja - Thomas O'Hara
DTSTART:20241115T160000Z
DTEND:20241115T170000Z
UID:TALK221755@talks.cam.ac.uk
CONTACT:David Al-Attar
DESCRIPTION:Abstract not available
LOCATION:Tea Room\, Old House
END:VEVENT
END:VCALENDAR
