BEGIN:VCALENDAR
VERSION:2.0
PRODID:-//Talks.cam//talks.cam.ac.uk//
X-WR-CALNAME:Talks.cam
BEGIN:VEVENT
SUMMARY:Mind Meets Machine: Social Cues Integration in Crossmodal Human-Ro
 bot Interaction - Di Fu\, Assistant Professor at the University of Surrey
DTSTART:20240702T130000Z
DTEND:20240702T133000Z
UID:TALK221395@talks.cam.ac.uk
CONTACT:122293
DESCRIPTION:Abstract not available
LOCATION:https://cam-ac-uk.zoom.us/j/83203210940?pwd=Vml3NmxOYitWTnRIbkRDd
 DdmdUxWdz09
END:VEVENT
END:VCALENDAR
