BEGIN:VCALENDAR
VERSION:2.0
PRODID:-//Talks.cam//talks.cam.ac.uk//
X-WR-CALNAME:Talks.cam
BEGIN:VEVENT
SUMMARY:A Sparse\, Flexible Framework with Confidence Measure Based on the
  Relevance Vector Machine - Anita Faul (None / Other)
DTSTART:20240724T133000Z
DTEND:20240724T142000Z
UID:TALK219406@talks.cam.ac.uk
DESCRIPTION:
LOCATION:Seminar Room 2\, Newton Institute
END:VEVENT
END:VCALENDAR
