BEGIN:VCALENDAR
VERSION:2.0
PRODID:-//Talks.cam//talks.cam.ac.uk//
X-WR-CALNAME:Talks.cam
BEGIN:VEVENT
SUMMARY:Tensor cross interpolation for multivariate recovery and high--pre
 cision computation of high--dimensional integrals - Dmitry Savostyanov (Un
 iversity of Essex)
DTSTART:20240712T150000Z
DTEND:20240712T160000Z
UID:TALK218998@talks.cam.ac.uk
DESCRIPTION:
LOCATION:Seminar Room 2\, Newton Institute
END:VEVENT
END:VCALENDAR
