BEGIN:VCALENDAR
VERSION:2.0
PRODID:-//Talks.cam//talks.cam.ac.uk//
X-WR-CALNAME:Talks.cam
BEGIN:VEVENT
SUMMARY:TBC - Marie-Jean THORAVAL (École Polytechnique)
DTSTART:20240712T092000Z
DTEND:20240712T095000Z
UID:TALK218917@talks.cam.ac.uk
DESCRIPTION:
LOCATION:External
END:VEVENT
END:VCALENDAR
