BEGIN:VCALENDAR
VERSION:2.0
PRODID:-//Talks.cam//talks.cam.ac.uk//
X-WR-CALNAME:Talks.cam
BEGIN:VEVENT
SUMMARY:An overview on the theory of jets ejected after the collapse of ca
 vities and on the skating of drops over gas or vapour layers - Jose Manuel
   Gordillo Arias de Saavedra (Universidad de Sevilla)
DTSTART:20240708T153000Z
DTEND:20240708T160000Z
UID:TALK218794@talks.cam.ac.uk
DESCRIPTION:
LOCATION:External
END:VEVENT
END:VCALENDAR
