BEGIN:VCALENDAR
VERSION:2.0
PRODID:-//Talks.cam//talks.cam.ac.uk//
X-WR-CALNAME:Talks.cam
BEGIN:VEVENT
SUMMARY: Uncommonly common copies: New insights into Cambridge Libraries
 ’ Statuta Angliæ manuscripts - Dr Stephanie J. Lahey
DTSTART:20240612T163000Z
DTEND:20240612T173000Z
UID:TALK216541@talks.cam.ac.uk
CONTACT:122191
DESCRIPTION:The libraries of the University of Cambridge and its Colleges 
 hold one of the world’s largest collections of Statuta Angliæ manuscrip
 ts: common law compilations copied in abundance in medieval England. Dr St
 ephanie J. Lahey\, Oschinsky Research Associate 2023-24\, will discuss the
 se books’ production and reception\, with a special focus on new early o
 wnership evidence for several UL manuscripts.\nEntry is free.\nBook here: 
 https://www.lib.cam.ac.uk/research-institute/events/fellows-talk-stephanie
 -lahey
LOCATION:Milstein Room\, Cambridge University Library\, Cambridge CB3 9DR
END:VEVENT
END:VCALENDAR
