BEGIN:VCALENDAR
VERSION:2.0
PRODID:-//Talks.cam//talks.cam.ac.uk//
X-WR-CALNAME:Talks.cam
BEGIN:VEVENT
SUMMARY:$H_{-1}$ reloaded - Balint Toth (University of Bristol)
DTSTART:20240708T091500Z
DTEND:20240708T101500Z
UID:TALK215539@talks.cam.ac.uk
DESCRIPTION:Variations on a tune of Varadhan (et al) with applications to 
 random walks and diffusions in divergence-free random drift field and self
 -repelling walks and diffusions. In particular\, CLT for random walk in di
 v-free random environment with minimal ellipticity assumptions. &nbsp\;
LOCATION:Seminar Room 1\, Newton Institute
END:VEVENT
END:VCALENDAR
