BEGIN:VCALENDAR
VERSION:2.0
PRODID:-//Talks.cam//talks.cam.ac.uk//
X-WR-CALNAME:Talks.cam
BEGIN:VEVENT
SUMMARY:Bursting of Condensates - Francoise Brochard-Wyart (Institut Curie
 )
DTSTART:20240911T121000Z
DTEND:20240911T125000Z
UID:TALK215155@talks.cam.ac.uk
DESCRIPTION:
LOCATION:External
END:VEVENT
END:VCALENDAR
