BEGIN:VCALENDAR
VERSION:2.0
PRODID:-//Talks.cam//talks.cam.ac.uk//
X-WR-CALNAME:Talks.cam
BEGIN:VEVENT
SUMMARY:Using confinement and chemotaxis to separate motile active suspens
 ions - Enkeleida Lushi (New Jersey Institute of Technology)
DTSTART:20240613T135000Z
DTEND:20240613T142000Z
UID:TALK214759@talks.cam.ac.uk
DESCRIPTION:We will discuss the modeling and simulations of active suspens
 ions in complex confinement when they interact with each-other through che
 motaxis and fluid-mediated forces. Then we will outline the possibilities 
 of separating by motility active suspensions utilizing confinement or chem
 otaxis. Theoretical results will be compared to recent experimental result
 s of systems involving bacterial suspensions.&nbsp\;\n&nbsp\;\nCollaborato
 rs: Yangrui Chen and Xiang Cheng at the University of Minnesota
LOCATION:Seminar Room 1\, Newton Institute
END:VEVENT
END:VCALENDAR
