BEGIN:VCALENDAR
VERSION:2.0
PRODID:-//Talks.cam//talks.cam.ac.uk//
X-WR-CALNAME:Talks.cam
BEGIN:VEVENT
SUMMARY:Advanced Diploma in Entrepreneurship - Various
DTSTART:20100915T080000Z
DTEND:20100915T160000Z
UID:TALK21166@talks.cam.ac.uk
CONTACT:16100
DESCRIPTION:This is a unique part-time programme delivered mainly via onli
 ne learning over a minimum of 15 months. It offers entrepreneurial individ
 uals the opportunity to gain the high quality\, structured and specific le
 arning demanded by a qualification recognised by the University of Cambrid
 ge\, at the same time as being actively supported in their pursuit of busi
 ness opportunities. \n\nStudents should be graduates with a minimum of a 2
 .2 in their first degree from a recognised University. \n\n*Applications m
 ust be received by 15th July for the programme starting in the following S
 eptember.* \n\nIf you would like to discuss the programme further\, please
  contact the Programme Director\, Dr Jo Mills at the Centre for Entreprene
 urial Learning on 01223 766900 or by email at *advanceddiploma@jbs.cam.ac.
 uk*.
LOCATION:Judge Business School\, Trumpington Street\, Cambridge\, CB2 1AG
END:VEVENT
END:VCALENDAR
