BEGIN:VCALENDAR
VERSION:2.0
PRODID:-//Talks.cam//talks.cam.ac.uk//
X-WR-CALNAME:Talks.cam
BEGIN:VEVENT
SUMMARY:AI Designed Granular  Materials for Industrial Applications - Gary
  Delaney (CSIRO)
DTSTART:20230821T103000Z
DTEND:20230821T113000Z
UID:TALK204319@talks.cam.ac.uk
DESCRIPTION:
LOCATION:External
END:VEVENT
END:VCALENDAR
