BEGIN:VCALENDAR
VERSION:2.0
PRODID:-//Talks.cam//talks.cam.ac.uk//
X-WR-CALNAME:Talks.cam
BEGIN:VEVENT
SUMMARY:Machine learning and formal verification in mathematics - Kevin Bu
 zzard (Imperial College London)
DTSTART:20230907T100000Z
DTEND:20230907T110000Z
UID:TALK204175@talks.cam.ac.uk
DESCRIPTION:I'll give an overview of how machine learning is affecting mod
 ern mathematics and will speculate about whether formal verification can s
 omehow help.&nbsp\;
LOCATION:Discussion Room\, Newton Institute
END:VEVENT
END:VCALENDAR
