BEGIN:VCALENDAR
VERSION:2.0
PRODID:-//Talks.cam//talks.cam.ac.uk//
X-WR-CALNAME:Talks.cam
BEGIN:VEVENT
SUMMARY:Title to be confirmed - Dr. Matthew Bell\, University of Cambridge
DTSTART:20100119T170000Z
DTEND:20100119T180000Z
UID:TALK20397@talks.cam.ac.uk
CONTACT:Dr. Camilla A. Hinde
DESCRIPTION:Abstract not available
LOCATION:Part II Lecture Theatre\, Department of Zoology
END:VEVENT
END:VCALENDAR
