BEGIN:VCALENDAR
VERSION:2.0
PRODID:-//Talks.cam//talks.cam.ac.uk//
X-WR-CALNAME:Talks.cam
BEGIN:VEVENT
SUMMARY:an Introduction to History Matching - Elliot Addy (University of E
 dinburgh)
DTSTART:20230609T100000Z
DTEND:20230609T110000Z
UID:TALK202297@talks.cam.ac.uk
DESCRIPTION:
LOCATION:Seminar Room 2\, Newton Institute
END:VEVENT
END:VCALENDAR
