BEGIN:VCALENDAR
VERSION:2.0
PRODID:-//Talks.cam//talks.cam.ac.uk//
X-WR-CALNAME:Talks.cam
BEGIN:VEVENT
SUMMARY:Affine Invariant Ensemble Transform Methods to improve predictive 
 uncertainty in neural networks - Diksha Bhandari (Universität Potsdam)
DTSTART:20230602T100000Z
DTEND:20230602T102500Z
UID:TALK201961@talks.cam.ac.uk
DESCRIPTION:
LOCATION:Seminar Room 2\, Newton Institute
END:VEVENT
END:VCALENDAR
