BEGIN:VCALENDAR
VERSION:2.0
PRODID:-//Talks.cam//talks.cam.ac.uk//
X-WR-CALNAME:Talks.cam
BEGIN:VEVENT
SUMMARY:AI in MRI: Hope or Hype? - Martin  Graves (University of Cambridge
 )
DTSTART:20230621T133500Z
DTEND:20230621T135000Z
UID:TALK201400@talks.cam.ac.uk
DESCRIPTION:
LOCATION:External
END:VEVENT
END:VCALENDAR
