BEGIN:VCALENDAR
VERSION:2.0
PRODID:-//Talks.cam//talks.cam.ac.uk//
X-WR-CALNAME:Talks.cam
BEGIN:VEVENT
SUMMARY:Bijecting the BKT Transition - Piet Lammers (Institut des Hautes 
 Études Scientifiques)
DTSTART:20230510T143500Z
DTEND:20230510T152000Z
UID:TALK198625@talks.cam.ac.uk
DESCRIPTION:
LOCATION:Seminar Room 1\, Newton Institute
END:VEVENT
END:VCALENDAR
