BEGIN:VCALENDAR
VERSION:2.0
PRODID:-//Talks.cam//talks.cam.ac.uk//
X-WR-CALNAME:Talks.cam
BEGIN:VEVENT
SUMMARY:Title to be confirmed - Alex Shillings\, Centre for Atmospheric Sc
 ience\, University of Cambridge
DTSTART:20100222T141500Z
DTEND:20100222T151500Z
UID:TALK19734@talks.cam.ac.uk
CONTACT:Dr Francis Pope
DESCRIPTION:Abstract not available
LOCATION:Unilever Lecture Theatre\, Department of Chemistry
END:VEVENT
END:VCALENDAR
