BEGIN:VCALENDAR
VERSION:2.0
PRODID:-//Talks.cam//talks.cam.ac.uk//
X-WR-CALNAME:Talks.cam
BEGIN:VEVENT
SUMMARY:Bayesian unsupervised learning with multiple data types - Roland S
 chwarz
DTSTART:20090824T140000Z
DTEND:20090824T150000Z
UID:TALK19606@talks.cam.ac.uk
CONTACT:Florian Markowetz
DESCRIPTION:Special focus on understanding (i) the model and (ii) the vari
 ational inference method they use.
LOCATION:Room 132\, CRI
END:VEVENT
END:VCALENDAR
