BEGIN:VCALENDAR
VERSION:2.0
PRODID:-//Talks.cam//talks.cam.ac.uk//
X-WR-CALNAME:Talks.cam
BEGIN:VEVENT
SUMMARY:Linking cortical microstructure to in vivo measures of cortical st
 ructure in health and disease - Dr. Konrad Wagstyl\, University College Lo
 ndon
DTSTART:20230202T150000Z
DTEND:20230202T160000Z
UID:TALK195388@talks.cam.ac.uk
CONTACT:Sofia Orellana
DESCRIPTION:The cerebral cortex exhibits a regionally varying microstructu
 re which cannot be readily resolved using in vivo MRI. Nevertheless cortic
 al microstructure underpins many of the regional\, developmental and patho
 logical changes we can measure in vivo. I will first present work done to 
 create an atlas of cortical gene expression bridging the gap between micro
  and macro scales of cortical structure. I will then demonstrate the appli
 cation and clinical translation of analyses of cortical microstructure to 
 the detection of subtle cortical lesions causing epilepsy in the Multicent
 re Epilepsy Lesion Detection project.
LOCATION:Online
END:VEVENT
END:VCALENDAR
