BEGIN:VCALENDAR
VERSION:2.0
PRODID:-//Talks.cam//talks.cam.ac.uk//
X-WR-CALNAME:Talks.cam
BEGIN:VEVENT
SUMMARY:Control of acoustic waves with wiremeshes - Vincent Pagneux (Unive
 rsité du Maine)
DTSTART:20230207T141500Z
DTEND:20230207T150000Z
UID:TALK194764@talks.cam.ac.uk
DESCRIPTION:Ultrathin resistive sheets (wiremeshes) are very simple scatte
 rers able to absorb sound waves efficiently in particularly broadband freq
 uency ranges. Different aspects of the use of these subwavelenght scattere
 rs will be presented such as symmetrization of acoustic waves or anomalous
  transmission through periodic arrangement.
LOCATION:Seminar Room 1\, Newton Institute
END:VEVENT
END:VCALENDAR
