BEGIN:VCALENDAR
VERSION:2.0
PRODID:-//Talks.cam//talks.cam.ac.uk//
X-WR-CALNAME:Talks.cam
BEGIN:VEVENT
SUMMARY:Screening and discussion of 'Threads of Hope'\, followed by Q&A wi
 th Roberta Baci - Roberta Baci
DTSTART:20091026T173000Z
DTEND:20091026T203000Z
UID:TALK19342@talks.cam.ac.uk
CONTACT:14797
DESCRIPTION:Hand-embroidered wall hangings (arpilleras)\, depict Chilean w
 omen's life stories of pain\, resistance\, grief and empowerment and how t
 hey deal with social and political issues of the time.\n\nFilm\, Arrive on
  time\, Ages 12+
LOCATION:Centre of Latin American Studies\, 17 Mill Lane
END:VEVENT
END:VCALENDAR
