BEGIN:VCALENDAR
VERSION:2.0
PRODID:-//Talks.cam//talks.cam.ac.uk//
X-WR-CALNAME:Talks.cam
BEGIN:VEVENT
SUMMARY:Localized origin at the core-mantle boundary of the 1969 geomagnet
 ic impulse - Chris Finlay (Technical University of Denmark)
DTSTART:20221123T113000Z
DTEND:20221123T130000Z
UID:TALK193184@talks.cam.ac.uk
DESCRIPTION:
LOCATION:Seminar Room 2\, Newton Institute
END:VEVENT
END:VCALENDAR
