BEGIN:VCALENDAR
VERSION:2.0
PRODID:-//Talks.cam//talks.cam.ac.uk//
X-WR-CALNAME:Talks.cam
BEGIN:VEVENT
SUMMARY:A Subpolynomial-time Algorithm for the Free Energy of One-dimensio
 nal Quantum Systems in the Thermodynamic Limit - Samuel Scalet (University
  of Cambridge)
DTSTART:20221123T141500Z
DTEND:20221123T143000Z
UID:TALK192977@talks.cam.ac.uk
DESCRIPTION:
LOCATION:Seminar Room 1\, Newton Institute
END:VEVENT
END:VCALENDAR
