BEGIN:VCALENDAR
VERSION:2.0
PRODID:-//Talks.cam//talks.cam.ac.uk//
X-WR-CALNAME:Talks.cam
BEGIN:VEVENT
SUMMARY:The syntactic role of discourse-related functional projections - S
 ilvio Cruschina (Oxford)
DTSTART:20090602T170000Z
DTEND:20090602T183000Z
UID:TALK18513@talks.cam.ac.uk
CONTACT:Dr Theresa Biberauer
DESCRIPTION:Abstract not available
LOCATION:G-R04\, English Faculty
END:VEVENT
END:VCALENDAR
