BEGIN:VCALENDAR
VERSION:2.0
PRODID:-//Talks.cam//talks.cam.ac.uk//
X-WR-CALNAME:Talks.cam
BEGIN:VEVENT
SUMMARY:A Tiered Guide to Communicating Modelling\, Not Models - Volker Gr
 imm (Helmholtz Centre for Environmental Research - UFZ)
DTSTART:20230124T110000Z
DTEND:20230124T112500Z
UID:TALK185015@talks.cam.ac.uk
DESCRIPTION:
LOCATION:Seminar Room 1\, Newton Institute
END:VEVENT
END:VCALENDAR
