BEGIN:VCALENDAR
VERSION:2.0
PRODID:-//Talks.cam//talks.cam.ac.uk//
X-WR-CALNAME:Talks.cam
BEGIN:VEVENT
SUMMARY:RVP lecture: Langlands' functoriality viewed as a kind of function
  theoretic Poisson formula problem - Lafforgue\, L (Rennes 1)
DTSTART:20090511T160000Z
DTEND:20090511T170000Z
UID:TALK18420@talks.cam.ac.uk
CONTACT:Mustapha Amrani
DESCRIPTION:Langlands' functoriality conjecture is one of the most importa
 nt problems in automorphic representations theory.\n\nIn the case of trans
 fer of unramified representations between linear groups\, we give an equiv
 alent formulation of this conjecture which looks like a Poisson formula :\
 ntwo linear functionnals defined on some huge space of functions on adelic
  groups have to be equal.\n\nThese two liear functionnals are defined by s
 ome local constructions (on groups over the local completions of the globa
 l field) followed by summation over some groups of rational points.\n
LOCATION:Seminar Room 1\, Newton Institute
END:VEVENT
END:VCALENDAR
