BEGIN:VCALENDAR
VERSION:2.0
PRODID:-//Talks.cam//talks.cam.ac.uk//
X-WR-CALNAME:Talks.cam
BEGIN:VEVENT
SUMMARY:The Bethe-Lax correspondence - Vir Bulchandani (Princeton Universi
 ty)
DTSTART:20221020T100000Z
DTEND:20221020T103000Z
UID:TALK182579@talks.cam.ac.uk
DESCRIPTION:We argue that the Lax matrix encodes the classical analogue of
  Bethe quasiparticles in classical integrable systems. We use the resultin
 g "Bethe-Lax correspondence'' to derive a quasiparticle kinetic theory for
  the classical Toda and Calogero models\, which passes stringent numerical
  tests.
LOCATION:Seminar Room 1\, Newton Institute
END:VEVENT
END:VCALENDAR
