BEGIN:VCALENDAR
VERSION:2.0
PRODID:-//Talks.cam//talks.cam.ac.uk//
X-WR-CALNAME:Talks.cam
BEGIN:VEVENT
SUMMARY:Data-driven structural assessment - Elizabeth (Lizzy) Cross (Unive
 rsity of Sheffield)
DTSTART:20230119T143000Z
DTEND:20230119T160000Z
UID:TALK182351@talks.cam.ac.uk
DESCRIPTION:
LOCATION:Seminar Room 1\, Newton Institute
END:VEVENT
END:VCALENDAR
