BEGIN:VCALENDAR
VERSION:2.0
PRODID:-//Talks.cam//talks.cam.ac.uk//
X-WR-CALNAME:Talks.cam
BEGIN:VEVENT
SUMMARY:Algorithm design for reinforcement learning and optimisation - Sea
 n Meyn (University of Florida)
DTSTART:20230116T110000Z
DTEND:20230116T123000Z
UID:TALK182318@talks.cam.ac.uk
DESCRIPTION:
LOCATION:Seminar Room 1\, Newton Institute
END:VEVENT
END:VCALENDAR
