BEGIN:VCALENDAR
VERSION:2.0
PRODID:-//Talks.cam//talks.cam.ac.uk//
X-WR-CALNAME:Talks.cam
BEGIN:VEVENT
SUMMARY:Diffractive light scattering from fermionic atomic gases in optica
 l lattices - Dr Janne Ruostekoski (Southampton University)
DTSTART:20090427T143000Z
DTEND:20090427T160000Z
UID:TALK18171@talks.cam.ac.uk
CONTACT:6270
DESCRIPTION:We propose a method for measuring quantum and thermal fluctuat
 ions of fermionic atoms in an optical lattice from the intensity of the sc
 attered light in the far-field diffraction pattern. Our calculations show 
 that\ncorrelations of the fermionic atoms generate fluctuations in the int
 ensity of the diffraction\npattern of light scattered from the atomic latt
 ice array. We also address some of our other recent work on ultra-cold ato
 m physics.\n
LOCATION:HEP Seminar Room (980) Rutherford Building\, Cavendish Laboratory
END:VEVENT
END:VCALENDAR
