BEGIN:VCALENDAR
VERSION:2.0
PRODID:-//Talks.cam//talks.cam.ac.uk//
X-WR-CALNAME:Talks.cam
BEGIN:VEVENT
SUMMARY:Cambridge Immunology Forum - 22nd Cambridge Immunology Forum: Canc
 er at the interface of immunity\, metabolism and microbiota - Please see s
 peakers below
DTSTART:20220923T073000Z
DTEND:20220923T170000Z
UID:TALK178535@talks.cam.ac.uk
CONTACT:108677
DESCRIPTION:Speakers include:\n \nRomina Goldszmid (NIH/NCI\, USA)\n\nTom 
 Gajewski (University of Chicago)\n\nKathy McCoy (University of Calgary)\n\
 nMatt Vander Heiden (Koch Institute/ MIT\, USA)\n\nTrevor Lawley (Microbio
 tica\, UK)\n\nVirginia Pedicord (University of Cambridge)\n\nLionel Apetoh
  (INSERM\, France)\n\nArthur Kaser (University of Cambridge) \n\nRegistrat
 ion:\n\nhttps://onlinesales.admin.cam.ac.uk/conferences-and-events/departm
 ent-of-medicine/cambridge-immunology-forum/the-22nd-cambridge-immunology-f
 orum
LOCATION:Queens College\, Cambridge
END:VEVENT
END:VCALENDAR
