BEGIN:VCALENDAR
VERSION:2.0
PRODID:-//Talks.cam//talks.cam.ac.uk//
X-WR-CALNAME:Talks.cam
BEGIN:VEVENT
SUMMARY:The inverse problem of Kadomtsev-Petviashvili II equation - Derchy
 i Wu (Institute of Mathematics\, Academia Sinica\, Taipei\, Taiwan)
DTSTART:20220907T080000Z
DTEND:20220907T090000Z
UID:TALK177836@talks.cam.ac.uk
DESCRIPTION:
LOCATION:Seminar Room 1\, Newton Institute
END:VEVENT
END:VCALENDAR
