BEGIN:VCALENDAR
VERSION:2.0
PRODID:-//Talks.cam//talks.cam.ac.uk//
X-WR-CALNAME:Talks.cam
BEGIN:VEVENT
SUMMARY:Challenge 2: Communicating Mathematics - Tom  Whipple  (The Times)
DTSTART:20220518T092500Z
DTEND:20220518T095000Z
UID:TALK174299@talks.cam.ac.uk
DESCRIPTION:
LOCATION:No Room Required
END:VEVENT
END:VCALENDAR
