BEGIN:VCALENDAR
VERSION:2.0
PRODID:-//Talks.cam//talks.cam.ac.uk//
X-WR-CALNAME:Talks.cam
BEGIN:VEVENT
SUMMARY:A parametrization of unipotent representations - George Lusztig (M
 assachusetts Institute of Technology)
DTSTART:20220512T150000Z
DTEND:20220512T155000Z
UID:TALK172835@talks.cam.ac.uk
DESCRIPTION:
LOCATION:Seminar Room 1\, Newton Institute
END:VEVENT
END:VCALENDAR
