BEGIN:VCALENDAR
VERSION:2.0
PRODID:-//Talks.cam//talks.cam.ac.uk//
X-WR-CALNAME:Talks.cam
BEGIN:VEVENT
SUMMARY:Near-wall turbulence intensity scales as inverse of ln Re_tau\, if
  bounded - Yongyun Hwang (Imperial College London)
DTSTART:20220407T150000Z
DTEND:20220407T160000Z
UID:TALK171074@talks.cam.ac.uk
DESCRIPTION:
LOCATION:Seminar Room 2\, Newton Institute
END:VEVENT
END:VCALENDAR
