BEGIN:VCALENDAR
VERSION:2.0
PRODID:-//Talks.cam//talks.cam.ac.uk//
X-WR-CALNAME:Talks.cam
BEGIN:VEVENT
SUMMARY:From Schools to Universities: The role  of different education set
 tings on COVID-19 transmission and the impact of different interventions -
  Michael Tildesley (University of Warwick)\, Louise Dyson (University of W
 arwick)
DTSTART:20211207T095000Z
DTEND:20211207T103000Z
UID:TALK166303@talks.cam.ac.uk
DESCRIPTION:
LOCATION:Seminar Room 1\, Newton Institute
END:VEVENT
END:VCALENDAR
